BEGIN:VCALENDAR
VERSION:2.0
PRODID:-//Les Paniers de Pontoch&#039; &amp; les Paniers d&#039;ici et d&#039;ailleurs - ECPv6.15.12.2//NONSGML v1.0//EN
CALSCALE:GREGORIAN
METHOD:PUBLISH
X-ORIGINAL-URL:https://paniersicietailleurs.fr
X-WR-CALDESC:Évènements pour Les Paniers de Pontoch&#039; &amp; les Paniers d&#039;ici et d&#039;ailleurs
REFRESH-INTERVAL;VALUE=DURATION:PT1H
X-Robots-Tag:noindex
X-PUBLISHED-TTL:PT1H
BEGIN:VTIMEZONE
TZID:Europe/Paris
BEGIN:DAYLIGHT
TZOFFSETFROM:+0100
TZOFFSETTO:+0200
TZNAME:CEST
DTSTART:20230326T010000
END:DAYLIGHT
BEGIN:STANDARD
TZOFFSETFROM:+0200
TZOFFSETTO:+0100
TZNAME:CET
DTSTART:20231029T010000
END:STANDARD
BEGIN:DAYLIGHT
TZOFFSETFROM:+0100
TZOFFSETTO:+0200
TZNAME:CEST
DTSTART:20240331T010000
END:DAYLIGHT
BEGIN:STANDARD
TZOFFSETFROM:+0200
TZOFFSETTO:+0100
TZNAME:CET
DTSTART:20241027T010000
END:STANDARD
BEGIN:DAYLIGHT
TZOFFSETFROM:+0100
TZOFFSETTO:+0200
TZNAME:CEST
DTSTART:20250330T010000
END:DAYLIGHT
BEGIN:STANDARD
TZOFFSETFROM:+0200
TZOFFSETTO:+0100
TZNAME:CET
DTSTART:20251026T010000
END:STANDARD
END:VTIMEZONE
BEGIN:VEVENT
DTSTART;TZID=Europe/Paris:20241109T110000
DTEND;TZID=Europe/Paris:20241109T120000
DTSTAMP:20260421T105628
CREATED:20240629T094026Z
LAST-MODIFIED:20241013T184209Z
UID:3097-1731150000-1731153600@paniersicietailleurs.fr
SUMMARY:Œufs
DESCRIPTION:Pensez à apporter vos boites
URL:https://paniersicietailleurs.fr/event/oeufs-42/
LOCATION:Moulignon
END:VEVENT
BEGIN:VEVENT
DTSTART;TZID=Europe/Paris:20241109T110000
DTEND;TZID=Europe/Paris:20241109T120000
DTSTAMP:20260421T105628
CREATED:20241013T184209Z
LAST-MODIFIED:20241013T184209Z
UID:3140-1731150000-1731153600@paniersicietailleurs.fr
SUMMARY:Pommes de Stéphane
DESCRIPTION:
URL:https://paniersicietailleurs.fr/event/pommes-de-stephane-11/
END:VEVENT
BEGIN:VEVENT
DTSTART;TZID=Europe/Paris:20241109T110000
DTEND;TZID=Europe/Paris:20241109T120000
DTSTAMP:20260421T105628
CREATED:20241013T184209Z
LAST-MODIFIED:20241013T184209Z
UID:3141-1731150000-1731153600@paniersicietailleurs.fr
SUMMARY:La fromentellerie A
DESCRIPTION:
URL:https://paniersicietailleurs.fr/event/la-fromentellerie-a-16/
END:VEVENT
BEGIN:VEVENT
DTSTART;TZID=Europe/Paris:20241109T110000
DTEND;TZID=Europe/Paris:20241109T120000
DTSTAMP:20260421T105628
CREATED:20241013T184209Z
LAST-MODIFIED:20241013T184209Z
UID:3142-1731150000-1731153600@paniersicietailleurs.fr
SUMMARY:Pain & brioches & pain de mie
DESCRIPTION:contrat bimensuel
URL:https://paniersicietailleurs.fr/event/pain-brioches-pain-de-mie/
END:VEVENT
BEGIN:VEVENT
DTSTART;TZID=Europe/Paris:20241116T110000
DTEND;TZID=Europe/Paris:20241116T120000
DTSTAMP:20260421T105628
CREATED:20240629T094040Z
LAST-MODIFIED:20241013T184209Z
UID:3099-1731754800-1731758400@paniersicietailleurs.fr
SUMMARY:Volailles + lentilles
DESCRIPTION:
URL:https://paniersicietailleurs.fr/event/volailles-lentilles-27/
LOCATION:Moulignon
END:VEVENT
BEGIN:VEVENT
DTSTART;TZID=Europe/Paris:20241123T110000
DTEND;TZID=Europe/Paris:20241123T120000
DTSTAMP:20260421T105628
CREATED:20240629T094041Z
LAST-MODIFIED:20241207T101155Z
UID:3100-1732359600-1732363200@paniersicietailleurs.fr
SUMMARY:Fromage de chèvre/Cailles et œufs de caille
DESCRIPTION:Pensez à apporter vos boites
URL:https://paniersicietailleurs.fr/event/fromage-de-chevre-cailles-et-oeufs-de-caille-20/
LOCATION:Moulignon
END:VEVENT
BEGIN:VEVENT
DTSTART;TZID=Europe/Paris:20241123T110000
DTEND;TZID=Europe/Paris:20241123T120000
DTSTAMP:20260421T105628
CREATED:20240629T094041Z
LAST-MODIFIED:20241013T184336Z
UID:3101-1732359600-1732363200@paniersicietailleurs.fr
SUMMARY:Œufs
DESCRIPTION:Pensez à apporter vos boites
URL:https://paniersicietailleurs.fr/event/oeufs-43/
LOCATION:Moulignon
END:VEVENT
BEGIN:VEVENT
DTSTART;TZID=Europe/Paris:20241123T110000
DTEND;TZID=Europe/Paris:20241123T120000
DTSTAMP:20260421T105628
CREATED:20241013T184336Z
LAST-MODIFIED:20241013T184336Z
UID:3144-1732359600-1732363200@paniersicietailleurs.fr
SUMMARY:Pommes et poires de Pauline
DESCRIPTION:
URL:https://paniersicietailleurs.fr/event/pommes-et-poires-de-pauline-2/
END:VEVENT
BEGIN:VEVENT
DTSTART;TZID=Europe/Paris:20241123T110000
DTEND;TZID=Europe/Paris:20241123T120000
DTSTAMP:20260421T105628
CREATED:20241013T184336Z
LAST-MODIFIED:20241013T184336Z
UID:3145-1732359600-1732363200@paniersicietailleurs.fr
SUMMARY:La fromentellerie B
DESCRIPTION:
URL:https://paniersicietailleurs.fr/event/la-fromentellerie-b-15/
END:VEVENT
BEGIN:VEVENT
DTSTART;TZID=Europe/Paris:20241123T110000
DTEND;TZID=Europe/Paris:20241123T120000
DTSTAMP:20260421T105628
CREATED:20241013T184336Z
LAST-MODIFIED:20241207T101426Z
UID:3146-1732359600-1732363200@paniersicietailleurs.fr
SUMMARY:Produits de MARTA
DESCRIPTION:
URL:https://paniersicietailleurs.fr/event/produits-de-marta-12/
END:VEVENT
BEGIN:VEVENT
DTSTART;TZID=Europe/Paris:20241123T110000
DTEND;TZID=Europe/Paris:20241123T120000
DTSTAMP:20260421T105628
CREATED:20241013T184352Z
LAST-MODIFIED:20241013T184352Z
UID:3147-1732359600-1732363200@paniersicietailleurs.fr
SUMMARY:Pain & brioches
DESCRIPTION:contrat  mensuel et bimensuel
URL:https://paniersicietailleurs.fr/event/pain-brioches-34/
END:VEVENT
END:VCALENDAR