BEGIN:VCALENDAR
VERSION:2.0
PRODID:-//Les Paniers de Pontoch&#039; &amp; les Paniers d&#039;ici et d&#039;ailleurs - ECPv6.15.12.2//NONSGML v1.0//EN
CALSCALE:GREGORIAN
METHOD:PUBLISH
X-ORIGINAL-URL:https://paniersicietailleurs.fr
X-WR-CALDESC:Évènements pour Les Paniers de Pontoch&#039; &amp; les Paniers d&#039;ici et d&#039;ailleurs
REFRESH-INTERVAL;VALUE=DURATION:PT1H
X-Robots-Tag:noindex
X-PUBLISHED-TTL:PT1H
BEGIN:VTIMEZONE
TZID:Europe/Paris
BEGIN:DAYLIGHT
TZOFFSETFROM:+0100
TZOFFSETTO:+0200
TZNAME:CEST
DTSTART:20230326T010000
END:DAYLIGHT
BEGIN:STANDARD
TZOFFSETFROM:+0200
TZOFFSETTO:+0100
TZNAME:CET
DTSTART:20231029T010000
END:STANDARD
BEGIN:DAYLIGHT
TZOFFSETFROM:+0100
TZOFFSETTO:+0200
TZNAME:CEST
DTSTART:20240331T010000
END:DAYLIGHT
BEGIN:STANDARD
TZOFFSETFROM:+0200
TZOFFSETTO:+0100
TZNAME:CET
DTSTART:20241027T010000
END:STANDARD
BEGIN:DAYLIGHT
TZOFFSETFROM:+0100
TZOFFSETTO:+0200
TZNAME:CEST
DTSTART:20250330T010000
END:DAYLIGHT
BEGIN:STANDARD
TZOFFSETFROM:+0200
TZOFFSETTO:+0100
TZNAME:CET
DTSTART:20251026T010000
END:STANDARD
END:VTIMEZONE
BEGIN:VEVENT
DTSTART;TZID=Europe/Paris:20240903T110000
DTEND;TZID=Europe/Paris:20240903T120000
DTSTAMP:20260419T143349
CREATED:20240120T195653Z
LAST-MODIFIED:20240120T195653Z
UID:2971-1725361200-1725364800@paniersicietailleurs.fr
SUMMARY:Volailles + lentilles
DESCRIPTION:
URL:https://paniersicietailleurs.fr/event/volailles-lentilles-22/
LOCATION:Moulignon
END:VEVENT
BEGIN:VEVENT
DTSTART;TZID=Europe/Paris:20240914T110000
DTEND;TZID=Europe/Paris:20240914T120000
DTSTAMP:20260419T143349
CREATED:20240629T093635Z
LAST-MODIFIED:20240629T093635Z
UID:3083-1726311600-1726315200@paniersicietailleurs.fr
SUMMARY:Œufs
DESCRIPTION:
URL:https://paniersicietailleurs.fr/event/oeufs-38/
LOCATION:Moulignon
END:VEVENT
BEGIN:VEVENT
DTSTART;TZID=Europe/Paris:20240914T110000
DTEND;TZID=Europe/Paris:20240914T120000
DTSTAMP:20260419T143349
CREATED:20240629T093635Z
LAST-MODIFIED:20240629T093635Z
UID:3084-1726311600-1726315200@paniersicietailleurs.fr
SUMMARY:*Pain/brioches
DESCRIPTION:contrat  mensuel et bimensuel
URL:https://paniersicietailleurs.fr/event/pain-brioches-28/
LOCATION:Moulignon
END:VEVENT
BEGIN:VEVENT
DTSTART;TZID=Europe/Paris:20240914T110000
DTEND;TZID=Europe/Paris:20240914T120000
DTSTAMP:20260419T143349
CREATED:20240629T093636Z
LAST-MODIFIED:20240629T093636Z
UID:3085-1726311600-1726315200@paniersicietailleurs.fr
SUMMARY:la fromentellerie B
DESCRIPTION:
URL:https://paniersicietailleurs.fr/event/la-fromentellerie-b-13/
LOCATION:Moulignon
END:VEVENT
BEGIN:VEVENT
DTSTART;TZID=Europe/Paris:20240914T110000
DTEND;TZID=Europe/Paris:20240914T120000
DTSTAMP:20260419T143349
CREATED:20240629T093636Z
LAST-MODIFIED:20240629T093636Z
UID:3086-1726311600-1726315200@paniersicietailleurs.fr
SUMMARY:Volailles + lentilles
DESCRIPTION:
URL:https://paniersicietailleurs.fr/event/volailles-lentilles-25/
LOCATION:Moulignon
END:VEVENT
BEGIN:VEVENT
DTSTART;TZID=Europe/Paris:20240921T110000
DTEND;TZID=Europe/Paris:20240921T120000
DTSTAMP:20260419T143349
CREATED:20240629T093636Z
LAST-MODIFIED:20240629T093636Z
UID:3087-1726916400-1726920000@paniersicietailleurs.fr
SUMMARY:Fromage de chèvre/Cailles et œufs de caille
DESCRIPTION:
URL:https://paniersicietailleurs.fr/event/fromage-de-chevre-cailles-et-oeufs-de-caille-18/
LOCATION:Moulignon
END:VEVENT
BEGIN:VEVENT
DTSTART;TZID=Europe/Paris:20240928T110000
DTEND;TZID=Europe/Paris:20240928T120000
DTSTAMP:20260419T143349
CREATED:20240629T093835Z
LAST-MODIFIED:20240629T093835Z
UID:3088-1727521200-1727524800@paniersicietailleurs.fr
SUMMARY:Œufs
DESCRIPTION:
URL:https://paniersicietailleurs.fr/event/oeufs-39/
LOCATION:Moulignon
END:VEVENT
BEGIN:VEVENT
DTSTART;TZID=Europe/Paris:20240928T110000
DTEND;TZID=Europe/Paris:20240928T120000
DTSTAMP:20260419T143349
CREATED:20240629T093835Z
LAST-MODIFIED:20240629T093835Z
UID:3089-1727521200-1727524800@paniersicietailleurs.fr
SUMMARY:*Pain/brioches
DESCRIPTION:contrat bimensuel
URL:https://paniersicietailleurs.fr/event/pain-brioches-29/
LOCATION:Moulignon
END:VEVENT
BEGIN:VEVENT
DTSTART;TZID=Europe/Paris:20240928T110000
DTEND;TZID=Europe/Paris:20240928T120000
DTSTAMP:20260419T143349
CREATED:20240629T093835Z
LAST-MODIFIED:20240629T093835Z
UID:3090-1727521200-1727524800@paniersicietailleurs.fr
SUMMARY:la fromentellerie A
DESCRIPTION:
URL:https://paniersicietailleurs.fr/event/la-fromentellerie-a-14/
LOCATION:Moulignon
END:VEVENT
END:VCALENDAR