BEGIN:VCALENDAR
VERSION:2.0
PRODID:-//Les Paniers de Pontoch&#039; &amp; les Paniers d&#039;ici et d&#039;ailleurs - ECPv6.15.12.2//NONSGML v1.0//EN
CALSCALE:GREGORIAN
METHOD:PUBLISH
X-ORIGINAL-URL:https://paniersicietailleurs.fr
X-WR-CALDESC:Évènements pour Les Paniers de Pontoch&#039; &amp; les Paniers d&#039;ici et d&#039;ailleurs
REFRESH-INTERVAL;VALUE=DURATION:PT1H
X-Robots-Tag:noindex
X-PUBLISHED-TTL:PT1H
BEGIN:VTIMEZONE
TZID:Europe/Paris
BEGIN:DAYLIGHT
TZOFFSETFROM:+0100
TZOFFSETTO:+0200
TZNAME:CEST
DTSTART:20230326T010000
END:DAYLIGHT
BEGIN:STANDARD
TZOFFSETFROM:+0200
TZOFFSETTO:+0100
TZNAME:CET
DTSTART:20231029T010000
END:STANDARD
BEGIN:DAYLIGHT
TZOFFSETFROM:+0100
TZOFFSETTO:+0200
TZNAME:CEST
DTSTART:20240331T010000
END:DAYLIGHT
BEGIN:STANDARD
TZOFFSETFROM:+0200
TZOFFSETTO:+0100
TZNAME:CET
DTSTART:20241027T010000
END:STANDARD
BEGIN:DAYLIGHT
TZOFFSETFROM:+0100
TZOFFSETTO:+0200
TZNAME:CEST
DTSTART:20250330T010000
END:DAYLIGHT
BEGIN:STANDARD
TZOFFSETFROM:+0200
TZOFFSETTO:+0100
TZNAME:CET
DTSTART:20251026T010000
END:STANDARD
END:VTIMEZONE
BEGIN:VEVENT
DTSTART;TZID=Europe/Paris:20240601T110000
DTEND;TZID=Europe/Paris:20240601T120000
DTSTAMP:20260419T190743
CREATED:20240320T222928Z
LAST-MODIFIED:20240320T222928Z
UID:3045-1717239600-1717243200@paniersicietailleurs.fr
SUMMARY:*Pain / brioches
DESCRIPTION:(contrat bimensuel)
URL:https://paniersicietailleurs.fr/event/pain-brioches-25/
LOCATION:Moulignon
END:VEVENT
BEGIN:VEVENT
DTSTART;TZID=Europe/Paris:20240608T110000
DTEND;TZID=Europe/Paris:20240608T120000
DTSTAMP:20260419T190743
CREATED:20240320T222928Z
LAST-MODIFIED:20240320T222928Z
UID:3046-1717844400-1717848000@paniersicietailleurs.fr
SUMMARY:Fromage de brebis
DESCRIPTION:
URL:https://paniersicietailleurs.fr/event/fromage-de-brebis-11/
LOCATION:Moulignon
END:VEVENT
BEGIN:VEVENT
DTSTART;TZID=Europe/Paris:20240608T110000
DTEND;TZID=Europe/Paris:20240608T120000
DTSTAMP:20260419T190743
CREATED:20240320T222928Z
LAST-MODIFIED:20240320T222928Z
UID:3047-1717844400-1717848000@paniersicietailleurs.fr
SUMMARY:Œufs
DESCRIPTION:
URL:https://paniersicietailleurs.fr/event/oeufs-31/
LOCATION:Moulignon
END:VEVENT
BEGIN:VEVENT
DTSTART;TZID=Europe/Paris:20240608T110000
DTEND;TZID=Europe/Paris:20240608T120000
DTSTAMP:20260419T190743
CREATED:20240320T222928Z
LAST-MODIFIED:20240320T222928Z
UID:3048-1717844400-1717848000@paniersicietailleurs.fr
SUMMARY:la fromentellerie A
DESCRIPTION:Produits laitiers A
URL:https://paniersicietailleurs.fr/event/la-fromentellerie-a-10/
LOCATION:Moulignon
END:VEVENT
BEGIN:VEVENT
DTSTART;TZID=Europe/Paris:20240615T110000
DTEND;TZID=Europe/Paris:20240615T120000
DTSTAMP:20260419T190743
CREATED:20240320T223022Z
LAST-MODIFIED:20240320T223022Z
UID:3049-1718449200-1718452800@paniersicietailleurs.fr
SUMMARY:Champignons
DESCRIPTION:
URL:https://paniersicietailleurs.fr/event/champignons-6/
LOCATION:Moulignon
END:VEVENT
BEGIN:VEVENT
DTSTART;TZID=Europe/Paris:20240615T110000
DTEND;TZID=Europe/Paris:20240615T120000
DTSTAMP:20260419T190743
CREATED:20240320T223022Z
LAST-MODIFIED:20240320T223022Z
UID:3050-1718449200-1718452800@paniersicietailleurs.fr
SUMMARY:Fromage de brebis
DESCRIPTION:
URL:https://paniersicietailleurs.fr/event/fromage-de-brebis-12/
LOCATION:Moulignon
END:VEVENT
BEGIN:VEVENT
DTSTART;TZID=Europe/Paris:20240615T110000
DTEND;TZID=Europe/Paris:20240615T120000
DTSTAMP:20260419T190743
CREATED:20240320T223023Z
LAST-MODIFIED:20240320T223023Z
UID:3051-1718449200-1718452800@paniersicietailleurs.fr
SUMMARY:*Pain / brioches
DESCRIPTION:(contrat  mensuel et bimensuel)
URL:https://paniersicietailleurs.fr/event/pain-brioches-26/
LOCATION:Moulignon
END:VEVENT
BEGIN:VEVENT
DTSTART;TZID=Europe/Paris:20240622T110000
DTEND;TZID=Europe/Paris:20240622T120000
DTSTAMP:20260419T190743
CREATED:20240320T223023Z
LAST-MODIFIED:20240320T223023Z
UID:3052-1719054000-1719057600@paniersicietailleurs.fr
SUMMARY:Fromage de brebis
DESCRIPTION:
URL:https://paniersicietailleurs.fr/event/fromage-de-brebis-13/
LOCATION:Moulignon
END:VEVENT
BEGIN:VEVENT
DTSTART;TZID=Europe/Paris:20240622T110000
DTEND;TZID=Europe/Paris:20240622T120000
DTSTAMP:20260419T190743
CREATED:20240320T223023Z
LAST-MODIFIED:20240320T223023Z
UID:3053-1719054000-1719057600@paniersicietailleurs.fr
SUMMARY:Fromage de chèvre/Cailles et œufs de caille
DESCRIPTION:Pensez à apporter vos boites
URL:https://paniersicietailleurs.fr/event/fromage-de-chevre-cailles-et-oeufs-de-caille-15/
LOCATION:Moulignon
END:VEVENT
BEGIN:VEVENT
DTSTART;TZID=Europe/Paris:20240622T110000
DTEND;TZID=Europe/Paris:20240622T120000
DTSTAMP:20260419T190743
CREATED:20240320T223038Z
LAST-MODIFIED:20240320T223038Z
UID:3054-1719054000-1719057600@paniersicietailleurs.fr
SUMMARY:Œufs
DESCRIPTION:Pensez à apporter vos boites
URL:https://paniersicietailleurs.fr/event/oeufs-32/
LOCATION:Moulignon
END:VEVENT
BEGIN:VEVENT
DTSTART;TZID=Europe/Paris:20240622T110000
DTEND;TZID=Europe/Paris:20240622T120000
DTSTAMP:20260419T190743
CREATED:20240320T223038Z
LAST-MODIFIED:20240320T223038Z
UID:3055-1719054000-1719057600@paniersicietailleurs.fr
SUMMARY:*Pain de mie
DESCRIPTION:
URL:https://paniersicietailleurs.fr/event/pain-de-mie-8/
LOCATION:Moulignon
END:VEVENT
BEGIN:VEVENT
DTSTART;TZID=Europe/Paris:20240622T110000
DTEND;TZID=Europe/Paris:20240622T120000
DTSTAMP:20260419T190743
CREATED:20240320T223038Z
LAST-MODIFIED:20240320T223038Z
UID:3056-1719054000-1719057600@paniersicietailleurs.fr
SUMMARY:la fromentellerie B
DESCRIPTION:Produits laitiers B
URL:https://paniersicietailleurs.fr/event/la-fromentellerie-b-10/
LOCATION:Moulignon
END:VEVENT
END:VCALENDAR