BEGIN:VCALENDAR
VERSION:2.0
PRODID:-//Les Paniers de Pontoch&#039; &amp; les Paniers d&#039;ici et d&#039;ailleurs - ECPv6.15.12.2//NONSGML v1.0//EN
CALSCALE:GREGORIAN
METHOD:PUBLISH
X-WR-CALNAME:Les Paniers de Pontoch&#039; &amp; les Paniers d&#039;ici et d&#039;ailleurs
X-ORIGINAL-URL:https://paniersicietailleurs.fr
X-WR-CALDESC:Évènements pour Les Paniers de Pontoch&#039; &amp; les Paniers d&#039;ici et d&#039;ailleurs
REFRESH-INTERVAL;VALUE=DURATION:PT1H
X-Robots-Tag:noindex
X-PUBLISHED-TTL:PT1H
BEGIN:VTIMEZONE
TZID:Europe/Paris
BEGIN:DAYLIGHT
TZOFFSETFROM:+0100
TZOFFSETTO:+0200
TZNAME:CEST
DTSTART:20230326T010000
END:DAYLIGHT
BEGIN:STANDARD
TZOFFSETFROM:+0200
TZOFFSETTO:+0100
TZNAME:CET
DTSTART:20231029T010000
END:STANDARD
BEGIN:DAYLIGHT
TZOFFSETFROM:+0100
TZOFFSETTO:+0200
TZNAME:CEST
DTSTART:20240331T010000
END:DAYLIGHT
BEGIN:STANDARD
TZOFFSETFROM:+0200
TZOFFSETTO:+0100
TZNAME:CET
DTSTART:20241027T010000
END:STANDARD
BEGIN:DAYLIGHT
TZOFFSETFROM:+0100
TZOFFSETTO:+0200
TZNAME:CEST
DTSTART:20250330T010000
END:DAYLIGHT
BEGIN:STANDARD
TZOFFSETFROM:+0200
TZOFFSETTO:+0100
TZNAME:CET
DTSTART:20251026T010000
END:STANDARD
END:VTIMEZONE
BEGIN:VEVENT
DTSTART;TZID=Europe/Paris:20240504T110000
DTEND;TZID=Europe/Paris:20240504T120000
DTSTAMP:20260419T204819
CREATED:20240320T222831Z
LAST-MODIFIED:20240320T222831Z
UID:3030-1714820400-1714824000@paniersicietailleurs.fr
SUMMARY:PAS DE DISTRIBUTION NI PERMANENCE
DESCRIPTION:
URL:https://paniersicietailleurs.fr/event/pas-de-distribution-ni-permanence-3/
LOCATION:Moulignon
END:VEVENT
BEGIN:VEVENT
DTSTART;TZID=Europe/Paris:20240511T110000
DTEND;TZID=Europe/Paris:20240511T120000
DTSTAMP:20260419T204819
CREATED:20240320T222831Z
LAST-MODIFIED:20240320T222831Z
UID:3031-1715425200-1715428800@paniersicietailleurs.fr
SUMMARY:Asperges
DESCRIPTION:
URL:https://paniersicietailleurs.fr/event/asperges-4/
LOCATION:Moulignon
END:VEVENT
BEGIN:VEVENT
DTSTART;TZID=Europe/Paris:20240511T110000
DTEND;TZID=Europe/Paris:20240511T120000
DTSTAMP:20260419T204819
CREATED:20240320T222831Z
LAST-MODIFIED:20240320T222831Z
UID:3032-1715425200-1715428800@paniersicietailleurs.fr
SUMMARY:Fromage de brebis
DESCRIPTION:
URL:https://paniersicietailleurs.fr/event/fromage-de-brebis-9/
LOCATION:Moulignon
END:VEVENT
BEGIN:VEVENT
DTSTART;TZID=Europe/Paris:20240511T110000
DTEND;TZID=Europe/Paris:20240511T120000
DTSTAMP:20260419T204819
CREATED:20240320T222831Z
LAST-MODIFIED:20240320T222831Z
UID:3033-1715425200-1715428800@paniersicietailleurs.fr
SUMMARY:Œufs
DESCRIPTION:Pensez à apporter vos boites
URL:https://paniersicietailleurs.fr/event/oeufs-29/
LOCATION:Moulignon
END:VEVENT
BEGIN:VEVENT
DTSTART;TZID=Europe/Paris:20240511T110000
DTEND;TZID=Europe/Paris:20240511T120000
DTSTAMP:20260419T204819
CREATED:20240320T222846Z
LAST-MODIFIED:20240320T222846Z
UID:3034-1715425200-1715428800@paniersicietailleurs.fr
SUMMARY:la fromentellerie A
DESCRIPTION:Produits laitiers A
URL:https://paniersicietailleurs.fr/event/la-fromentellerie-a-9/
LOCATION:Moulignon
END:VEVENT
BEGIN:VEVENT
DTSTART;TZID=Europe/Paris:20240511T110000
DTEND;TZID=Europe/Paris:20240511T120000
DTSTAMP:20260419T204819
CREATED:20240320T222846Z
LAST-MODIFIED:20240320T222846Z
UID:3035-1715425200-1715428800@paniersicietailleurs.fr
SUMMARY:Volailles + lentilles
DESCRIPTION:
URL:https://paniersicietailleurs.fr/event/volailles-lentilles-24/
LOCATION:Moulignon
END:VEVENT
BEGIN:VEVENT
DTSTART;TZID=Europe/Paris:20240518T110000
DTEND;TZID=Europe/Paris:20240518T120000
DTSTAMP:20260419T204819
CREATED:20240320T222847Z
LAST-MODIFIED:20240320T222847Z
UID:3036-1716030000-1716033600@paniersicietailleurs.fr
SUMMARY:Asperges
DESCRIPTION:
URL:https://paniersicietailleurs.fr/event/asperges-5/
LOCATION:Moulignon
END:VEVENT
BEGIN:VEVENT
DTSTART;TZID=Europe/Paris:20240518T110000
DTEND;TZID=Europe/Paris:20240518T120000
DTSTAMP:20260419T204819
CREATED:20240320T222847Z
LAST-MODIFIED:20240320T222847Z
UID:3037-1716030000-1716033600@paniersicietailleurs.fr
SUMMARY:Champignons
DESCRIPTION:
URL:https://paniersicietailleurs.fr/event/champignons-5/
LOCATION:Moulignon
END:VEVENT
BEGIN:VEVENT
DTSTART;TZID=Europe/Paris:20240518T110000
DTEND;TZID=Europe/Paris:20240518T120000
DTSTAMP:20260419T204819
CREATED:20240320T222847Z
LAST-MODIFIED:20240320T222847Z
UID:3038-1716030000-1716033600@paniersicietailleurs.fr
SUMMARY:Fromage de chèvre/Cailles et œufs de caille
DESCRIPTION:Pensez à apporter vos boites
URL:https://paniersicietailleurs.fr/event/fromage-de-chevre-cailles-et-oeufs-de-caille-14/
LOCATION:Moulignon
END:VEVENT
BEGIN:VEVENT
DTSTART;TZID=Europe/Paris:20240518T110000
DTEND;TZID=Europe/Paris:20240518T120000
DTSTAMP:20260419T204819
CREATED:20240320T222912Z
LAST-MODIFIED:20240320T222912Z
UID:3039-1716030000-1716033600@paniersicietailleurs.fr
SUMMARY:Nouveau contrat de légumes
DESCRIPTION:
URL:https://paniersicietailleurs.fr/event/nouveau-contrat-de-legumes/
LOCATION:Moulignon
END:VEVENT
BEGIN:VEVENT
DTSTART;TZID=Europe/Paris:20240518T110000
DTEND;TZID=Europe/Paris:20240518T120000
DTSTAMP:20260419T204819
CREATED:20240320T222912Z
LAST-MODIFIED:20240320T222912Z
UID:3040-1716030000-1716033600@paniersicietailleurs.fr
SUMMARY:*Pain / brioches
DESCRIPTION:(contrat  mensuel et bimensuel)
URL:https://paniersicietailleurs.fr/event/pain-brioches-24/
LOCATION:Moulignon
END:VEVENT
BEGIN:VEVENT
DTSTART;TZID=Europe/Paris:20240525T110000
DTEND;TZID=Europe/Paris:20240525T120000
DTSTAMP:20260419T204819
CREATED:20240320T222912Z
LAST-MODIFIED:20240320T222912Z
UID:3041-1716634800-1716638400@paniersicietailleurs.fr
SUMMARY:Fromage de brebis
DESCRIPTION:
URL:https://paniersicietailleurs.fr/event/fromage-de-brebis-10/
LOCATION:Moulignon
END:VEVENT
BEGIN:VEVENT
DTSTART;TZID=Europe/Paris:20240525T110000
DTEND;TZID=Europe/Paris:20240525T120000
DTSTAMP:20260419T204819
CREATED:20240320T222912Z
LAST-MODIFIED:20240320T222912Z
UID:3042-1716634800-1716638400@paniersicietailleurs.fr
SUMMARY:Œufs
DESCRIPTION:Pensez à apporter vos boites
URL:https://paniersicietailleurs.fr/event/oeufs-30/
LOCATION:Moulignon
END:VEVENT
BEGIN:VEVENT
DTSTART;TZID=Europe/Paris:20240525T110000
DTEND;TZID=Europe/Paris:20240525T120000
DTSTAMP:20260419T204819
CREATED:20240320T222913Z
LAST-MODIFIED:20240320T222913Z
UID:3043-1716634800-1716638400@paniersicietailleurs.fr
SUMMARY:*Pain de mie
DESCRIPTION:
URL:https://paniersicietailleurs.fr/event/pain-de-mie-7/
LOCATION:Moulignon
END:VEVENT
BEGIN:VEVENT
DTSTART;TZID=Europe/Paris:20240525T110000
DTEND;TZID=Europe/Paris:20240525T120000
DTSTAMP:20260419T204819
CREATED:20240320T222928Z
LAST-MODIFIED:20240320T222928Z
UID:3044-1716634800-1716638400@paniersicietailleurs.fr
SUMMARY:la fromentellerie B
DESCRIPTION:Produits laitiers B
URL:https://paniersicietailleurs.fr/event/la-fromentellerie-b-9/
LOCATION:Moulignon
END:VEVENT
END:VCALENDAR