BEGIN:VCALENDAR
VERSION:2.0
PRODID:-//Les Paniers de Pontoch&#039; &amp; les Paniers d&#039;ici et d&#039;ailleurs - ECPv6.15.12.2//NONSGML v1.0//EN
CALSCALE:GREGORIAN
METHOD:PUBLISH
X-WR-CALNAME:Les Paniers de Pontoch&#039; &amp; les Paniers d&#039;ici et d&#039;ailleurs
X-ORIGINAL-URL:https://paniersicietailleurs.fr
X-WR-CALDESC:Évènements pour Les Paniers de Pontoch&#039; &amp; les Paniers d&#039;ici et d&#039;ailleurs
REFRESH-INTERVAL;VALUE=DURATION:PT1H
X-Robots-Tag:noindex
X-PUBLISHED-TTL:PT1H
BEGIN:VTIMEZONE
TZID:Europe/Paris
BEGIN:DAYLIGHT
TZOFFSETFROM:+0100
TZOFFSETTO:+0200
TZNAME:CEST
DTSTART:20230326T010000
END:DAYLIGHT
BEGIN:STANDARD
TZOFFSETFROM:+0200
TZOFFSETTO:+0100
TZNAME:CET
DTSTART:20231029T010000
END:STANDARD
BEGIN:DAYLIGHT
TZOFFSETFROM:+0100
TZOFFSETTO:+0200
TZNAME:CEST
DTSTART:20240331T010000
END:DAYLIGHT
BEGIN:STANDARD
TZOFFSETFROM:+0200
TZOFFSETTO:+0100
TZNAME:CET
DTSTART:20241027T010000
END:STANDARD
BEGIN:DAYLIGHT
TZOFFSETFROM:+0100
TZOFFSETTO:+0200
TZNAME:CEST
DTSTART:20250330T010000
END:DAYLIGHT
BEGIN:STANDARD
TZOFFSETFROM:+0200
TZOFFSETTO:+0100
TZNAME:CET
DTSTART:20251026T010000
END:STANDARD
END:VTIMEZONE
BEGIN:VEVENT
DTSTART;TZID=Europe/Paris:20241019T110000
DTEND;TZID=Europe/Paris:20241019T120000
DTSTAMP:20260419T142934
CREATED:20240629T094025Z
LAST-MODIFIED:20241013T184138Z
UID:3094-1729335600-1729339200@paniersicietailleurs.fr
SUMMARY:Fromage de chèvre/Cailles et œufs de caille
DESCRIPTION:Pensez à apporter vos boites
URL:https://paniersicietailleurs.fr/event/fromage-de-chevre-cailles-et-oeufs-de-caille-19/
LOCATION:Moulignon
END:VEVENT
BEGIN:VEVENT
DTSTART;TZID=Europe/Paris:20241019T110000
DTEND;TZID=Europe/Paris:20241019T120000
DTSTAMP:20260419T142934
CREATED:20241013T184138Z
LAST-MODIFIED:20241013T184138Z
UID:3130-1729335600-1729339200@paniersicietailleurs.fr
SUMMARY:Légumes de Rodolphe et Louisette
DESCRIPTION:
URL:https://paniersicietailleurs.fr/event/legumes-de-rodolphe-et-louisette/
END:VEVENT
BEGIN:VEVENT
DTSTART;TZID=Europe/Paris:20241019T110000
DTEND;TZID=Europe/Paris:20241019T120000
DTSTAMP:20260419T142934
CREATED:20241013T184138Z
LAST-MODIFIED:20241013T184138Z
UID:3131-1729335600-1729339200@paniersicietailleurs.fr
SUMMARY:Miel de Stéphane
DESCRIPTION:
URL:https://paniersicietailleurs.fr/event/miel-de-stephane/
END:VEVENT
BEGIN:VEVENT
DTSTART;TZID=Europe/Paris:20241019T110000
DTEND;TZID=Europe/Paris:20241019T120000
DTSTAMP:20260419T142934
CREATED:20241013T184138Z
LAST-MODIFIED:20241013T184138Z
UID:3132-1729335600-1729339200@paniersicietailleurs.fr
SUMMARY:Tomme de brebis
DESCRIPTION:
URL:https://paniersicietailleurs.fr/event/tomme-de-brebis/
END:VEVENT
BEGIN:VEVENT
DTSTART;TZID=Europe/Paris:20241019T110000
DTEND;TZID=Europe/Paris:20241019T120000
DTSTAMP:20260419T142934
CREATED:20241013T184138Z
LAST-MODIFIED:20241013T184138Z
UID:3133-1729335600-1729339200@paniersicietailleurs.fr
SUMMARY:Haricots verts
DESCRIPTION:
URL:https://paniersicietailleurs.fr/event/haricots-verts/
END:VEVENT
END:VCALENDAR