BEGIN:VCALENDAR
VERSION:2.0
PRODID:-//Les Paniers de Pontoch&#039; &amp; les Paniers d&#039;ici et d&#039;ailleurs - ECPv6.15.12.2//NONSGML v1.0//EN
CALSCALE:GREGORIAN
METHOD:PUBLISH
X-ORIGINAL-URL:https://paniersicietailleurs.fr
X-WR-CALDESC:Évènements pour Les Paniers de Pontoch&#039; &amp; les Paniers d&#039;ici et d&#039;ailleurs
REFRESH-INTERVAL;VALUE=DURATION:PT1H
X-Robots-Tag:noindex
X-PUBLISHED-TTL:PT1H
BEGIN:VTIMEZONE
TZID:Europe/Paris
BEGIN:DAYLIGHT
TZOFFSETFROM:+0100
TZOFFSETTO:+0200
TZNAME:CEST
DTSTART:20230326T010000
END:DAYLIGHT
BEGIN:STANDARD
TZOFFSETFROM:+0200
TZOFFSETTO:+0100
TZNAME:CET
DTSTART:20231029T010000
END:STANDARD
BEGIN:DAYLIGHT
TZOFFSETFROM:+0100
TZOFFSETTO:+0200
TZNAME:CEST
DTSTART:20240331T010000
END:DAYLIGHT
BEGIN:STANDARD
TZOFFSETFROM:+0200
TZOFFSETTO:+0100
TZNAME:CET
DTSTART:20241027T010000
END:STANDARD
BEGIN:DAYLIGHT
TZOFFSETFROM:+0100
TZOFFSETTO:+0200
TZNAME:CEST
DTSTART:20250330T010000
END:DAYLIGHT
BEGIN:STANDARD
TZOFFSETFROM:+0200
TZOFFSETTO:+0100
TZNAME:CET
DTSTART:20251026T010000
END:STANDARD
END:VTIMEZONE
BEGIN:VEVENT
DTSTART;TZID=Europe/Paris:20240921T110000
DTEND;TZID=Europe/Paris:20240921T120000
DTSTAMP:20260419T155913
CREATED:20240629T093636Z
LAST-MODIFIED:20240629T093636Z
UID:3087-1726916400-1726920000@paniersicietailleurs.fr
SUMMARY:Fromage de chèvre/Cailles et œufs de caille
DESCRIPTION:
URL:https://paniersicietailleurs.fr/event/fromage-de-chevre-cailles-et-oeufs-de-caille-18/
LOCATION:Moulignon
END:VEVENT
END:VCALENDAR