BEGIN:VCALENDAR
VERSION:2.0
PRODID:-//Les Paniers de Pontoch&#039; &amp; les Paniers d&#039;ici et d&#039;ailleurs - ECPv6.15.12.2//NONSGML v1.0//EN
CALSCALE:GREGORIAN
METHOD:PUBLISH
X-WR-CALNAME:Les Paniers de Pontoch&#039; &amp; les Paniers d&#039;ici et d&#039;ailleurs
X-ORIGINAL-URL:https://paniersicietailleurs.fr
X-WR-CALDESC:Évènements pour Les Paniers de Pontoch&#039; &amp; les Paniers d&#039;ici et d&#039;ailleurs
REFRESH-INTERVAL;VALUE=DURATION:PT1H
X-Robots-Tag:noindex
X-PUBLISHED-TTL:PT1H
BEGIN:VTIMEZONE
TZID:Europe/Paris
BEGIN:DAYLIGHT
TZOFFSETFROM:+0100
TZOFFSETTO:+0200
TZNAME:CEST
DTSTART:20230326T010000
END:DAYLIGHT
BEGIN:STANDARD
TZOFFSETFROM:+0200
TZOFFSETTO:+0100
TZNAME:CET
DTSTART:20231029T010000
END:STANDARD
BEGIN:DAYLIGHT
TZOFFSETFROM:+0100
TZOFFSETTO:+0200
TZNAME:CEST
DTSTART:20240331T010000
END:DAYLIGHT
BEGIN:STANDARD
TZOFFSETFROM:+0200
TZOFFSETTO:+0100
TZNAME:CET
DTSTART:20241027T010000
END:STANDARD
BEGIN:DAYLIGHT
TZOFFSETFROM:+0100
TZOFFSETTO:+0200
TZNAME:CEST
DTSTART:20250330T010000
END:DAYLIGHT
BEGIN:STANDARD
TZOFFSETFROM:+0200
TZOFFSETTO:+0100
TZNAME:CET
DTSTART:20251026T010000
END:STANDARD
END:VTIMEZONE
BEGIN:VEVENT
DTSTART;TZID=Europe/Paris:20240615T110000
DTEND;TZID=Europe/Paris:20240615T120000
DTSTAMP:20260419T204819
CREATED:20240320T223022Z
LAST-MODIFIED:20240320T223022Z
UID:3049-1718449200-1718452800@paniersicietailleurs.fr
SUMMARY:Champignons
DESCRIPTION:
URL:https://paniersicietailleurs.fr/event/champignons-6/
LOCATION:Moulignon
END:VEVENT
BEGIN:VEVENT
DTSTART;TZID=Europe/Paris:20240615T110000
DTEND;TZID=Europe/Paris:20240615T120000
DTSTAMP:20260419T204819
CREATED:20240320T223022Z
LAST-MODIFIED:20240320T223022Z
UID:3050-1718449200-1718452800@paniersicietailleurs.fr
SUMMARY:Fromage de brebis
DESCRIPTION:
URL:https://paniersicietailleurs.fr/event/fromage-de-brebis-12/
LOCATION:Moulignon
END:VEVENT
BEGIN:VEVENT
DTSTART;TZID=Europe/Paris:20240615T110000
DTEND;TZID=Europe/Paris:20240615T120000
DTSTAMP:20260419T204819
CREATED:20240320T223023Z
LAST-MODIFIED:20240320T223023Z
UID:3051-1718449200-1718452800@paniersicietailleurs.fr
SUMMARY:*Pain / brioches
DESCRIPTION:(contrat  mensuel et bimensuel)
URL:https://paniersicietailleurs.fr/event/pain-brioches-26/
LOCATION:Moulignon
END:VEVENT
END:VCALENDAR