BEGIN:VCALENDAR
VERSION:2.0
PRODID:-//Les Paniers de Pontoch&#039; &amp; les Paniers d&#039;ici et d&#039;ailleurs - ECPv6.15.12.2//NONSGML v1.0//EN
CALSCALE:GREGORIAN
METHOD:PUBLISH
X-WR-CALNAME:Les Paniers de Pontoch&#039; &amp; les Paniers d&#039;ici et d&#039;ailleurs
X-ORIGINAL-URL:https://paniersicietailleurs.fr
X-WR-CALDESC:Évènements pour Les Paniers de Pontoch&#039; &amp; les Paniers d&#039;ici et d&#039;ailleurs
REFRESH-INTERVAL;VALUE=DURATION:PT1H
X-Robots-Tag:noindex
X-PUBLISHED-TTL:PT1H
BEGIN:VTIMEZONE
TZID:Europe/Paris
BEGIN:DAYLIGHT
TZOFFSETFROM:+0100
TZOFFSETTO:+0200
TZNAME:CEST
DTSTART:20230326T010000
END:DAYLIGHT
BEGIN:STANDARD
TZOFFSETFROM:+0200
TZOFFSETTO:+0100
TZNAME:CET
DTSTART:20231029T010000
END:STANDARD
BEGIN:DAYLIGHT
TZOFFSETFROM:+0100
TZOFFSETTO:+0200
TZNAME:CEST
DTSTART:20240331T010000
END:DAYLIGHT
BEGIN:STANDARD
TZOFFSETFROM:+0200
TZOFFSETTO:+0100
TZNAME:CET
DTSTART:20241027T010000
END:STANDARD
BEGIN:DAYLIGHT
TZOFFSETFROM:+0100
TZOFFSETTO:+0200
TZNAME:CEST
DTSTART:20250330T010000
END:DAYLIGHT
BEGIN:STANDARD
TZOFFSETFROM:+0200
TZOFFSETTO:+0100
TZNAME:CET
DTSTART:20251026T010000
END:STANDARD
END:VTIMEZONE
BEGIN:VEVENT
DTSTART;TZID=Europe/Paris:20240427T110000
DTEND;TZID=Europe/Paris:20240427T120000
DTSTAMP:20260420T001151
CREATED:20240320T222801Z
LAST-MODIFIED:20240320T222801Z
UID:3022-1714215600-1714219200@paniersicietailleurs.fr
SUMMARY:Asperges
DESCRIPTION:
URL:https://paniersicietailleurs.fr/event/asperges-3/
LOCATION:Moulignon
END:VEVENT
BEGIN:VEVENT
DTSTART;TZID=Europe/Paris:20240427T110000
DTEND;TZID=Europe/Paris:20240427T120000
DTSTAMP:20260420T001151
CREATED:20240320T222801Z
LAST-MODIFIED:20240320T222801Z
UID:3023-1714215600-1714219200@paniersicietailleurs.fr
SUMMARY:Champignons
DESCRIPTION:
URL:https://paniersicietailleurs.fr/event/champignons-4/
LOCATION:Moulignon
END:VEVENT
BEGIN:VEVENT
DTSTART;TZID=Europe/Paris:20240427T110000
DTEND;TZID=Europe/Paris:20240427T120000
DTSTAMP:20260420T001151
CREATED:20240320T222816Z
LAST-MODIFIED:20240320T222816Z
UID:3024-1714215600-1714219200@paniersicietailleurs.fr
SUMMARY:Fromage de brebis
DESCRIPTION:
URL:https://paniersicietailleurs.fr/event/fromage-de-brebis-8/
LOCATION:Moulignon
END:VEVENT
BEGIN:VEVENT
DTSTART;TZID=Europe/Paris:20240427T110000
DTEND;TZID=Europe/Paris:20240427T120000
DTSTAMP:20260420T001151
CREATED:20240320T222816Z
LAST-MODIFIED:20240320T222816Z
UID:3025-1714215600-1714219200@paniersicietailleurs.fr
SUMMARY:Œufs
DESCRIPTION:Pensez à apporter vos boites
URL:https://paniersicietailleurs.fr/event/oeufs-28/
LOCATION:Moulignon
END:VEVENT
BEGIN:VEVENT
DTSTART;TZID=Europe/Paris:20240427T110000
DTEND;TZID=Europe/Paris:20240427T120000
DTSTAMP:20260420T001151
CREATED:20240320T222816Z
LAST-MODIFIED:20240320T222816Z
UID:3026-1714215600-1714219200@paniersicietailleurs.fr
SUMMARY:*Pain / brioches
DESCRIPTION:(contrat bimensuel)
URL:https://paniersicietailleurs.fr/event/pain-brioches-23/
LOCATION:Moulignon
END:VEVENT
BEGIN:VEVENT
DTSTART;TZID=Europe/Paris:20240427T110000
DTEND;TZID=Europe/Paris:20240427T120000
DTSTAMP:20260420T001151
CREATED:20240320T222816Z
LAST-MODIFIED:20240320T222816Z
UID:3027-1714215600-1714219200@paniersicietailleurs.fr
SUMMARY:*Pain de mie
DESCRIPTION:
URL:https://paniersicietailleurs.fr/event/pain-de-mie-6/
LOCATION:Moulignon
END:VEVENT
BEGIN:VEVENT
DTSTART;TZID=Europe/Paris:20240427T110000
DTEND;TZID=Europe/Paris:20240427T120000
DTSTAMP:20260420T001151
CREATED:20240320T222816Z
LAST-MODIFIED:20240320T222816Z
UID:3028-1714215600-1714219200@paniersicietailleurs.fr
SUMMARY:*Produits de MARTA
DESCRIPTION:
URL:https://paniersicietailleurs.fr/event/produits-de-marta-10/
LOCATION:Moulignon
END:VEVENT
BEGIN:VEVENT
DTSTART;TZID=Europe/Paris:20240427T110000
DTEND;TZID=Europe/Paris:20240427T120000
DTSTAMP:20260420T001151
CREATED:20240320T222830Z
LAST-MODIFIED:20240320T222830Z
UID:3029-1714215600-1714219200@paniersicietailleurs.fr
SUMMARY:la fromentellerie B
DESCRIPTION:Produits laitiers B
URL:https://paniersicietailleurs.fr/event/la-fromentellerie-b-8/
LOCATION:Moulignon
END:VEVENT
END:VCALENDAR